BEGIN:VCALENDAR
VERSION:2.0
PRODID:-//PYVOBJECT//NONSGML Version 1//EN
BEGIN:VEVENT
UID:13876:6721
DTSTART:20190301T000000
DTEND:20190331T000000
DESCRIPTION:
DTSTAMP:20260421T182642Z
SUMMARY:Supradyn-Aktion im März 2019
END:VEVENT
END:VCALENDAR
